BEGIN:VCALENDAR
VERSION:2.0
PRODID:-//KCPR - ECPv6.15.17.1//NONSGML v1.0//EN
CALSCALE:GREGORIAN
METHOD:PUBLISH
X-ORIGINAL-URL:https://kcpr.org
X-WR-CALDESC:Events for KCPR
REFRESH-INTERVAL;VALUE=DURATION:PT1H
X-Robots-Tag:noindex
X-PUBLISHED-TTL:PT1H
BEGIN:VTIMEZONE
TZID:America/Los_Angeles
BEGIN:DAYLIGHT
TZOFFSETFROM:-0800
TZOFFSETTO:-0700
TZNAME:PDT
DTSTART:20150308T100000
END:DAYLIGHT
BEGIN:STANDARD
TZOFFSETFROM:-0700
TZOFFSETTO:-0800
TZNAME:PST
DTSTART:20151101T090000
END:STANDARD
BEGIN:DAYLIGHT
TZOFFSETFROM:-0800
TZOFFSETTO:-0700
TZNAME:PDT
DTSTART:20160313T100000
END:DAYLIGHT
BEGIN:STANDARD
TZOFFSETFROM:-0700
TZOFFSETTO:-0800
TZNAME:PST
DTSTART:20161106T090000
END:STANDARD
BEGIN:DAYLIGHT
TZOFFSETFROM:-0800
TZOFFSETTO:-0700
TZNAME:PDT
DTSTART:20170312T100000
END:DAYLIGHT
BEGIN:STANDARD
TZOFFSETFROM:-0700
TZOFFSETTO:-0800
TZNAME:PST
DTSTART:20171105T090000
END:STANDARD
END:VTIMEZONE
BEGIN:VEVENT
DTSTART;TZID=America/Los_Angeles:20160930T220000
DTEND;TZID=America/Los_Angeles:20161001T020000
DTSTAMP:20260425T121009
CREATED:20160626T053501Z
LAST-MODIFIED:20160626T053501Z
UID:7518-1475272800-1475287200@kcpr.org
SUMMARY:DJ Shadow
DESCRIPTION:DJ Shadow performs in San Francisco
URL:https://kcpr.org/event/dj-shadow/
LOCATION:1015 Folsom\, 1015 Folsom St\, San Francisco\, CA\, 94103\, United States
CATEGORIES:Comedy
ATTACH;FMTTYPE=image/jpeg:https://kcpr.org/wp-content/uploads/2016/06/DJ-Shadow-2-c.-of-Universal-Music.jpg
END:VEVENT
BEGIN:VEVENT
DTSTART;TZID=America/Los_Angeles:20161005T200000
DTEND;TZID=America/Los_Angeles:20161005T230000
DTSTAMP:20260425T121009
CREATED:20160626T054257Z
LAST-MODIFIED:20160626T054257Z
UID:7522-1475697600-1475708400@kcpr.org
SUMMARY:Phantogram
DESCRIPTION:Phantogram performs live at the Fox Theater in Oakland
URL:https://kcpr.org/event/phantogram/
LOCATION:The Fox Theater\, 1807 Telegraph Ave\, Oakland\, CA\, 94612\, United States
CATEGORIES:Concert
ATTACH;FMTTYPE=image/jpeg:https://kcpr.org/wp-content/uploads/2016/06/download-11.jpg
END:VEVENT
BEGIN:VEVENT
DTSTART;TZID=America/Los_Angeles:20161012T190000
DTEND;TZID=America/Los_Angeles:20161012T230000
DTSTAMP:20260425T121009
CREATED:20160626T054707Z
LAST-MODIFIED:20160626T054707Z
UID:7525-1476298800-1476313200@kcpr.org
SUMMARY:Warpaint
DESCRIPTION:Warpaint performs live at the Fillmore in San Francisco
URL:https://kcpr.org/event/warpaint/
LOCATION:The Fillmore\, 1805 Geary Blvd.\, San Francisco\, CA\, 1912\, United States
CATEGORIES:Concert
ATTACH;FMTTYPE=image/jpeg:https://kcpr.org/wp-content/uploads/2016/06/download-12.jpg
END:VEVENT
BEGIN:VEVENT
DTSTART;TZID=America/Los_Angeles:20161014T210000
DTEND;TZID=America/Los_Angeles:20161014T235500
DTSTAMP:20260425T121009
CREATED:20160914T164223Z
LAST-MODIFIED:20160914T164223Z
UID:7751-1476478800-1476489300@kcpr.org
SUMMARY:KCPR and SLO Brew Present: Blockhead and Lusine
DESCRIPTION:KCPR is partnering with SLO Brew to bring you trip-hop mastermind Blockhead alongside electronic artist Lusine! \n18+
URL:https://kcpr.org/event/kcpr-slo-brew-present-blockhead-lusine/
LOCATION:Slo Brewing Company\, 736 Higuera St.\, San Luis Obispo\, CA\, CA\, United States
CATEGORIES:Concert
ATTACH;FMTTYPE=image/jpeg:https://kcpr.org/wp-content/uploads/2016/09/59_Edp.jpg
END:VEVENT
BEGIN:VEVENT
DTSTART;VALUE=DATE:20161015
DTEND;VALUE=DATE:20161017
DTSTAMP:20260425T121009
CREATED:20160626T050253Z
LAST-MODIFIED:20160626T050253Z
UID:7497-1476489600-1476662399@kcpr.org
SUMMARY:Treasure Island Feat. Ice Cube\, Sigue Ros\, James Blake
DESCRIPTION:Treasure Island Music festival returns for it’s 10th year in San Francisco. This year’s lineup is stacked! \n 
URL:https://kcpr.org/event/treasure-island-feat-ice-cube-sigue-ros-james-blake/
LOCATION:Treasure Island\, San Francisco\, CA\, United States
CATEGORIES:Festival
ATTACH;FMTTYPE=image/png:https://kcpr.org/wp-content/uploads/2016/06/13394027_10153810463038031_5022074751570797158_n.png
END:VEVENT
BEGIN:VEVENT
DTSTART;TZID=America/Los_Angeles:20161015T120000
DTEND;TZID=America/Los_Angeles:20161015T230000
DTSTAMP:20260425T121009
CREATED:20161013T000323Z
LAST-MODIFIED:20161013T000515Z
UID:7889-1476532800-1476572400@kcpr.org
SUMMARY:Alta Music Festival
DESCRIPTION:Ineffable Live\, a Division of Ineffable Music Group is proud \nto present the Alta Music Festival\, a new music &amp; lifestyle festival held at Avila Beach\, CA. The \none-day event takes place on October 15 at the scenic Avila Beach Resort.  Headliners already \nannounced include Iration\, Nahko And The Medicine For The People\, and Collie Buddz.  “Sea \nLevel”  GA\, and “Summit” VIP/Beach Balcony tickets are on sale now at \nAlta Music Festival is created by Dan Sheehan\, talent buyer and co-producer of the California \nRoots Music &amp; Arts Festival.  Sheehan\, and his partners in Ineffable Live\, bring their talents \nalongside Otter Productions to showcase a new and exciting event.  ‘ALTA’ means high\, height\, \nhigher\, elevated\, and can refer to everything from a state of consciousness to a preference in the \narts.  Attendees of the Alta Music Festival can expect an elevated festival experience – the same \nhigh production value that is synonymous with all of these producers’ events are known for with \nexceptional input to the finest details. \nStarting as a one-day festival\, attendees will dance in the grass while the sun sets against the \nbeautiful ocean view while sipping some great craft beers and munching on some tasty bites from \nthe eclectic array of food vendors.  Sustainability is integral to the success of the event. In an effort \nto eliminate single-use plastic waste\, the Alta Music Festival has partnered with the environmental \nnon-profit REVERB and the #RockNRefill program. Every ticket will include a $5 fee that will go \ntoward single-use plastic free solutions. This $5 fee will provide every ticket holder with a custom \n32oz Alta Music Festival NALGENE bottle and free filtered water stations will be provided on \nsite for all fans to use at the festival. \nThe majestic California Condor\, the largest flying bird in North America\, is featured on the \nfestival’s 2016 artwork. As a way of giving back to the natural wildlife organizations\, Alta Music \nFestival has partnered with the Ventana Wildlife Society to raise funds and awareness to their \nCondor Program. The California Condor is the largest endangered bird in North American and \nPress Junkie PR // 9901 Brodie Ln\, Ste. 160 PMB 221\, Austin\, TX 78748 \nsoars to dizzying heights with its ten-foot wingspan. The bird symbolizes the same heights that the \nAlta Music Festival looks to achieve in its overall production and experience. $1 from all tickets \nsold to the Alta Music Festival will be donated directly to the Ventana Wildlife Society. \nAdditionally\, the festival is working on free bike valet and a partnership with TripZero to offset \ncarbon through hotel reservations as a part of establishing the event’s greening initiatives.
URL:https://kcpr.org/event/7889/
LOCATION:Avila Beach Resort\, 6464 Ana Bay Road\, San Luis Obispo\, CA\, United States
ATTACH;FMTTYPE=image/png:https://kcpr.org/wp-content/uploads/2016/10/ALTA_FEST_2016_UPDATED_BANDS_INSTA-1.png
END:VEVENT
BEGIN:VEVENT
DTSTART;TZID=America/Los_Angeles:20161018T200000
DTEND;TZID=America/Los_Angeles:20161018T235500
DTSTAMP:20260425T121009
CREATED:20160626T045110Z
LAST-MODIFIED:20160626T045525Z
UID:7495-1476820800-1476834900@kcpr.org
SUMMARY:James Blake
DESCRIPTION:James Blake performs at the historic Arlington Theater in Santa Barbara
URL:https://kcpr.org/event/james-blake/
LOCATION:Arlington Theatre\, 1317 State Street\, Santa Barbara\, CA\, 93101\, United States
CATEGORIES:Concert
ATTACH;FMTTYPE=image/jpeg:https://kcpr.org/wp-content/uploads/2016/06/download-3.jpg
END:VEVENT
BEGIN:VEVENT
DTSTART;TZID=America/Los_Angeles:20161027T080000
DTEND;TZID=America/Los_Angeles:20161027T170000
DTSTAMP:20260425T121009
CREATED:20161027T233252Z
LAST-MODIFIED:20161027T233252Z
UID:7949-1477555200-1477587600@kcpr.org
SUMMARY:Classixx
DESCRIPTION:Music comes naturally to L.A. duo Classixx\, childhood friends who began recording together in 2007\, united by their mutual appreciation for shimmering melody\, punk rock\, disco and French house. When Classixx DJ\, they do so with exceptional comprehension\, a clear affinity for the music they play. There’s a kinship between the songs they select and their own original works\, at once beaming\, breezy and wistful\, descendent from similarly pop-minded melancholics like Fleetwood Mac\, Prince\, and Alan Braxe. \nNow one of the world’s most universally respected DJ duos\, Classixx have headlined everywhere from the famed Paris Social Club to New York’s Webster Hall\, touring constantly since releasing their exuberant 2009 single “I’ll Get You\,” which featured Lady Gaga songwriter Jeppe. Following their breakout single with acclaimed remixes for Phoenix\, Holy Ghost\, Mayer Hawthorne\, Groove Armada\, Yacht\, Major Lazer\, Gossip and others\, for the last two years Classixx have been intent on their debut Hanging Gardens\, whittling the LP down from hundreds of sessions to a svelte 12 songs.
URL:https://kcpr.org/event/classixx/
LOCATION:Velvet Jones\, Santa Barbara\, CA\, United States
CATEGORIES:Concert,Giveaway
ATTACH;FMTTYPE=image/jpeg:https://kcpr.org/wp-content/uploads/2016/10/MI0003737131.jpg
END:VEVENT
END:VCALENDAR