BEGIN:VCALENDAR
VERSION:2.0
PRODID:-//KCPR - ECPv6.15.17.1//NONSGML v1.0//EN
CALSCALE:GREGORIAN
METHOD:PUBLISH
X-WR-CALNAME:KCPR
X-ORIGINAL-URL:https://kcpr.org
X-WR-CALDESC:Events for KCPR
REFRESH-INTERVAL;VALUE=DURATION:PT1H
X-Robots-Tag:noindex
X-PUBLISHED-TTL:PT1H
BEGIN:VTIMEZONE
TZID:America/Los_Angeles
BEGIN:DAYLIGHT
TZOFFSETFROM:-0800
TZOFFSETTO:-0700
TZNAME:PDT
DTSTART:20150308T100000
END:DAYLIGHT
BEGIN:STANDARD
TZOFFSETFROM:-0700
TZOFFSETTO:-0800
TZNAME:PST
DTSTART:20151101T090000
END:STANDARD
BEGIN:DAYLIGHT
TZOFFSETFROM:-0800
TZOFFSETTO:-0700
TZNAME:PDT
DTSTART:20160313T100000
END:DAYLIGHT
BEGIN:STANDARD
TZOFFSETFROM:-0700
TZOFFSETTO:-0800
TZNAME:PST
DTSTART:20161106T090000
END:STANDARD
BEGIN:DAYLIGHT
TZOFFSETFROM:-0800
TZOFFSETTO:-0700
TZNAME:PDT
DTSTART:20170312T100000
END:DAYLIGHT
BEGIN:STANDARD
TZOFFSETFROM:-0700
TZOFFSETTO:-0800
TZNAME:PST
DTSTART:20171105T090000
END:STANDARD
END:VTIMEZONE
BEGIN:VEVENT
DTSTART;VALUE=DATE:20160415
DTEND;VALUE=DATE:20160418
DTSTAMP:20260423T142555
CREATED:20160128T153933Z
LAST-MODIFIED:20160401T053639Z
UID:5391-1460678400-1460937599@kcpr.org
SUMMARY:Coachella 2016 Weekend 1
DESCRIPTION:Coachella returns to Indio\, California for Weekend 1. Headliners include LCD Soundsystem\, Guns N Roses\, and Calvin Harris
URL:https://kcpr.org/event/coachella-2016/
LOCATION:Empire Polo Club\, 81-800 Avenue 51\, Indio\, CA\, 92201\, United States
CATEGORIES:Festival
ATTACH;FMTTYPE=image/jpeg:https://kcpr.org/wp-content/uploads/2016/01/coachella-2016-lineup-768x1024.jpg
END:VEVENT
END:VCALENDAR