BEGIN:VCALENDAR
VERSION:2.0
PRODID:-//KCPR - ECPv6.15.17.1//NONSGML v1.0//EN
CALSCALE:GREGORIAN
METHOD:PUBLISH
X-ORIGINAL-URL:https://kcpr.org
X-WR-CALDESC:Events for KCPR
REFRESH-INTERVAL;VALUE=DURATION:PT1H
X-Robots-Tag:noindex
X-PUBLISHED-TTL:PT1H
BEGIN:VTIMEZONE
TZID:America/Los_Angeles
BEGIN:DAYLIGHT
TZOFFSETFROM:-0800
TZOFFSETTO:-0700
TZNAME:PDT
DTSTART:20150308T100000
END:DAYLIGHT
BEGIN:STANDARD
TZOFFSETFROM:-0700
TZOFFSETTO:-0800
TZNAME:PST
DTSTART:20151101T090000
END:STANDARD
BEGIN:DAYLIGHT
TZOFFSETFROM:-0800
TZOFFSETTO:-0700
TZNAME:PDT
DTSTART:20160313T100000
END:DAYLIGHT
BEGIN:STANDARD
TZOFFSETFROM:-0700
TZOFFSETTO:-0800
TZNAME:PST
DTSTART:20161106T090000
END:STANDARD
BEGIN:DAYLIGHT
TZOFFSETFROM:-0800
TZOFFSETTO:-0700
TZNAME:PDT
DTSTART:20170312T100000
END:DAYLIGHT
BEGIN:STANDARD
TZOFFSETFROM:-0700
TZOFFSETTO:-0800
TZNAME:PST
DTSTART:20171105T090000
END:STANDARD
END:VTIMEZONE
BEGIN:VEVENT
DTSTART;TZID=America/Los_Angeles:20160329T200000
DTEND;TZID=America/Los_Angeles:20160329T233000
DTSTAMP:20260421T214430
CREATED:20160127T030732Z
LAST-MODIFIED:20160129T051550Z
UID:5383-1459281600-1459294200@kcpr.org
SUMMARY:Bleached W/ No Parents
DESCRIPTION:Bleached performs at Velvet Jones in Santa Barbara. Openers will be No Parents
URL:https://kcpr.org/event/bleached-w-no-parents/
LOCATION:Velvet Jones\, Santa Barbara\, CA\, United States
CATEGORIES:Concert
ATTACH;FMTTYPE=image/jpeg:https://kcpr.org/wp-content/uploads/2016/01/12471348_959204584127145_6166781260372655284_o.jpg
END:VEVENT
END:VCALENDAR