BEGIN:VCALENDAR
VERSION:2.0
PRODID:-//KCPR - ECPv6.15.17.1//NONSGML v1.0//EN
CALSCALE:GREGORIAN
METHOD:PUBLISH
X-WR-CALNAME:KCPR
X-ORIGINAL-URL:https://kcpr.org
X-WR-CALDESC:Events for KCPR
REFRESH-INTERVAL;VALUE=DURATION:PT1H
X-Robots-Tag:noindex
X-PUBLISHED-TTL:PT1H
BEGIN:VTIMEZONE
TZID:America/Los_Angeles
BEGIN:DAYLIGHT
TZOFFSETFROM:-0800
TZOFFSETTO:-0700
TZNAME:PDT
DTSTART:20150308T100000
END:DAYLIGHT
BEGIN:STANDARD
TZOFFSETFROM:-0700
TZOFFSETTO:-0800
TZNAME:PST
DTSTART:20151101T090000
END:STANDARD
BEGIN:DAYLIGHT
TZOFFSETFROM:-0800
TZOFFSETTO:-0700
TZNAME:PDT
DTSTART:20160313T100000
END:DAYLIGHT
BEGIN:STANDARD
TZOFFSETFROM:-0700
TZOFFSETTO:-0800
TZNAME:PST
DTSTART:20161106T090000
END:STANDARD
BEGIN:DAYLIGHT
TZOFFSETFROM:-0800
TZOFFSETTO:-0700
TZNAME:PDT
DTSTART:20170312T100000
END:DAYLIGHT
BEGIN:STANDARD
TZOFFSETFROM:-0700
TZOFFSETTO:-0800
TZNAME:PST
DTSTART:20171105T090000
END:STANDARD
END:VTIMEZONE
BEGIN:VEVENT
DTSTART;TZID=America/Los_Angeles:20160305T150000
DTEND;TZID=America/Los_Angeles:20160305T190000
DTSTAMP:20260422T120614
CREATED:20160216T033656Z
LAST-MODIFIED:20160216T033656Z
UID:5656-1457190000-1457204400@kcpr.org
SUMMARY:Shabang 5
DESCRIPTION:The Shabang is back. \nWe are a colloborative charity concert that unites like-minded individuals with good music and great vibes\, all for a good cause. \nThere is no longer vehicle access meaning if you park on the mountain it’s a $5000 fine. YOU CANNOT DRIVE YOURSELF TO THE SHABANG. \nWe will be providing shuttles and other means of transportation to get there. \nCall your mom\, tell your friends\, get stoked.
URL:https://kcpr.org/event/shabang-5/
LOCATION:Cuesta Ridge\, San Luis Obispo
END:VEVENT
BEGIN:VEVENT
DTSTART;TZID=America/Los_Angeles:20160305T190000
DTEND;TZID=America/Los_Angeles:20160305T235500
DTSTAMP:20260422T120614
CREATED:20160125T231741Z
LAST-MODIFIED:20160125T231741Z
UID:5351-1457204400-1457222100@kcpr.org
SUMMARY:Gaslamp Killer
DESCRIPTION:Dance artist Gaslamp Killer performs live in Santa Barbara. Show is 21+
URL:https://kcpr.org/event/gaslamp-killer/
LOCATION:SOhO Restaurant and Music Club\, 1221 State Street\, Santa Barbara\, CA\, 93101\, United States
CATEGORIES:Concert
ATTACH;FMTTYPE=image/jpeg:https://kcpr.org/wp-content/uploads/2016/01/Gaslamp.jpg
END:VEVENT
END:VCALENDAR